BEGIN:VCALENDAR
VERSION:2.0
PRODID:-//San Francisco Bay Times - ECPv5.1.0//NONSGML v1.0//EN
CALSCALE:GREGORIAN
METHOD:PUBLISH
X-WR-CALNAME:San Francisco Bay Times
X-ORIGINAL-URL:https://sfbaytimes.com
X-WR-CALDESC:Events for San Francisco Bay Times
BEGIN:VTIMEZONE
TZID:America/Los_Angeles
BEGIN:DAYLIGHT
TZOFFSETFROM:-0800
TZOFFSETTO:-0700
TZNAME:PDT
DTSTART:20170312T100000
END:DAYLIGHT
BEGIN:STANDARD
TZOFFSETFROM:-0700
TZOFFSETTO:-0800
TZNAME:PST
DTSTART:20171105T090000
END:STANDARD
END:VTIMEZONE
BEGIN:VEVENT
DTSTART;TZID=America/Los_Angeles:20170624T120000
DTEND;TZID=America/Los_Angeles:20170624T220000
DTSTAMP:20260421T155707
CREATED:20170613T003858Z
LAST-MODIFIED:20170613T003858Z
UID:12653-1498305600-1498341600@sfbaytimes.com
SUMMARY:15th Annual AIDS Walk BBQ Fundraiser
DESCRIPTION:@ 233 Central Avenue (between Oak & Page Streets). Richie McAllister and Marie Crinnion host their annual benefit\, open to the public\, supporting Project Open Hand and featuring music\, food and beverages\, silent and live auction\, raffles and more. 12:00 noon-10pm. email: events@openhand.org\n \n
URL:https://sfbaytimes.com/event/15th-annual-aids-walk-bbq-fundraiser/
END:VEVENT
END:VCALENDAR