BEGIN:VCALENDAR
VERSION:2.0
PRODID:-//San Francisco Bay Times - ECPv5.1.0//NONSGML v1.0//EN
CALSCALE:GREGORIAN
METHOD:PUBLISH
X-WR-CALNAME:San Francisco Bay Times
X-ORIGINAL-URL:https://sfbaytimes.com
X-WR-CALDESC:Events for San Francisco Bay Times
BEGIN:VTIMEZONE
TZID:America/Los_Angeles
BEGIN:DAYLIGHT
TZOFFSETFROM:-0800
TZOFFSETTO:-0700
TZNAME:PDT
DTSTART:20190310T100000
END:DAYLIGHT
BEGIN:STANDARD
TZOFFSETFROM:-0700
TZOFFSETTO:-0800
TZNAME:PST
DTSTART:20191103T090000
END:STANDARD
END:VTIMEZONE
BEGIN:VEVENT
DTSTART;VALUE=DATE:20191016
DTEND;VALUE=DATE:20191017
DTSTAMP:20260421T020802
CREATED:20191004T022632Z
LAST-MODIFIED:20191004T022632Z
UID:25389-1571184000-1571270399@sfbaytimes.com
SUMMARY:1st Annual Oakland Comedy Festival
DESCRIPTION:@ Multiple locations\, Oakland. Continuing through October 20\, this new festival highlights Oakland’s comedy scene through workshops\, performances and panels. Check schedule. http://www.oaklandcf.com \n
URL:https://sfbaytimes.com/event/1st-annual-oakland-comedy-festival/
END:VEVENT
END:VCALENDAR