BEGIN:VCALENDAR
VERSION:2.0
PRODID:-//San Francisco Bay Times - ECPv5.1.0//NONSGML v1.0//EN
CALSCALE:GREGORIAN
METHOD:PUBLISH
X-WR-CALNAME:San Francisco Bay Times
X-ORIGINAL-URL:https://sfbaytimes.com
X-WR-CALDESC:Events for San Francisco Bay Times
BEGIN:VTIMEZONE
TZID:America/Los_Angeles
BEGIN:DAYLIGHT
TZOFFSETFROM:-0800
TZOFFSETTO:-0700
TZNAME:PDT
DTSTART:20170312T100000
END:DAYLIGHT
BEGIN:STANDARD
TZOFFSETFROM:-0700
TZOFFSETTO:-0800
TZNAME:PST
DTSTART:20171105T090000
END:STANDARD
END:VTIMEZONE
BEGIN:VEVENT
DTSTART;TZID=America/Los_Angeles:20170621T190000
DTEND;TZID=America/Los_Angeles:20170621T220000
DTSTAMP:20260422T135027
CREATED:20170608T155432Z
LAST-MODIFIED:20170608T155432Z
UID:12648-1498071600-1498082400@sfbaytimes.com
SUMMARY:2017 Trevor Runway: #YouAreLove Benefit for Trevor Project
DESCRIPTION:@ Twitter Headquarters\, 1355 Market Street\, Suite 900. An evening of celebrity entertainment\, socializing\, fresh cocktails\, delicious food and more raising funds to support The Trevor Project. 7-10pm. trvr.org/youarelove \n
URL:https://sfbaytimes.com/event/2017-trevor-runway-youarelove-benefit-for-trevor-project/
END:VEVENT
END:VCALENDAR