BEGIN:VCALENDAR
VERSION:2.0
PRODID:-//San Francisco Bay Times - ECPv5.1.0//NONSGML v1.0//EN
CALSCALE:GREGORIAN
METHOD:PUBLISH
X-WR-CALNAME:San Francisco Bay Times
X-ORIGINAL-URL:https://sfbaytimes.com
X-WR-CALDESC:Events for San Francisco Bay Times
BEGIN:VTIMEZONE
TZID:America/Los_Angeles
BEGIN:DAYLIGHT
TZOFFSETFROM:-0800
TZOFFSETTO:-0700
TZNAME:PDT
DTSTART:20170312T100000
END:DAYLIGHT
BEGIN:STANDARD
TZOFFSETFROM:-0700
TZOFFSETTO:-0800
TZNAME:PST
DTSTART:20171105T090000
END:STANDARD
END:VTIMEZONE
BEGIN:VEVENT
DTSTART;TZID=America/Los_Angeles:20170610T095500
DTEND;TZID=America/Los_Angeles:20170610T170000
DTSTAMP:20260425T021339
CREATED:20170607T214730Z
LAST-MODIFIED:20170607T214730Z
UID:12467-1497088500-1497114000@sfbaytimes.com
SUMMARY:2017 Van Cliburn International Piano Competition
DESCRIPTION:@ Area Theaters Daly City 20\, Redwood City Century 20\, Walnut Creek 14 and Dublin Regal Hacienda Crossing Stadium 20 & IMAX. A big screen concert by six finalists culminates the 17-day competition of the world’s best pianists. 9:55am. fathomevent.com \n
URL:https://sfbaytimes.com/event/2017-van-cliburn-international-piano-competition/
END:VEVENT
END:VCALENDAR