BEGIN:VCALENDAR
VERSION:2.0
PRODID:-//San Francisco Bay Times - ECPv5.1.0//NONSGML v1.0//EN
CALSCALE:GREGORIAN
METHOD:PUBLISH
X-WR-CALNAME:San Francisco Bay Times
X-ORIGINAL-URL:https://sfbaytimes.com
X-WR-CALDESC:Events for San Francisco Bay Times
BEGIN:VTIMEZONE
TZID:America/Los_Angeles
BEGIN:DAYLIGHT
TZOFFSETFROM:-0800
TZOFFSETTO:-0700
TZNAME:PDT
DTSTART:20170312T100000
END:DAYLIGHT
BEGIN:STANDARD
TZOFFSETFROM:-0700
TZOFFSETTO:-0800
TZNAME:PST
DTSTART:20171105T090000
END:STANDARD
END:VTIMEZONE
BEGIN:VEVENT
DTSTART;TZID=America/Los_Angeles:20170909T090000
DTEND;TZID=America/Los_Angeles:20170909T140000
DTSTAMP:20260421T125351
CREATED:20170908T210931Z
LAST-MODIFIED:20170908T210931Z
UID:14105-1504947600-1504965600@sfbaytimes.com
SUMMARY:20th Annual Tag Sale in Duboce Park
DESCRIPTION:@ Duboce Park\, corner of Duboce\, Steiner and Scott Streets. Friends of Duboce Park accept donations and organize this popular event where neighbors walk away with bargains and proceeds are earmarked for new lighting in the ally on the north side of the Harvey Milk Photography Center. 9am-2pm.\nfriendsofdobucepark.org \n
URL:https://sfbaytimes.com/event/20th-annual-tag-sale-duboce-park/
END:VEVENT
END:VCALENDAR