BEGIN:VCALENDAR
VERSION:2.0
PRODID:-//San Francisco Bay Times - ECPv5.1.0//NONSGML v1.0//EN
CALSCALE:GREGORIAN
METHOD:PUBLISH
X-WR-CALNAME:San Francisco Bay Times
X-ORIGINAL-URL:https://sfbaytimes.com
X-WR-CALDESC:Events for San Francisco Bay Times
BEGIN:VTIMEZONE
TZID:America/Los_Angeles
BEGIN:DAYLIGHT
TZOFFSETFROM:-0800
TZOFFSETTO:-0700
TZNAME:PDT
DTSTART:20190310T100000
END:DAYLIGHT
BEGIN:STANDARD
TZOFFSETFROM:-0700
TZOFFSETTO:-0800
TZNAME:PST
DTSTART:20191103T090000
END:STANDARD
END:VTIMEZONE
BEGIN:VEVENT
DTSTART;TZID=America/Los_Angeles:20190505T200000
DTEND;TZID=America/Los_Angeles:20190505T200000
DTSTAMP:20260420T161655
CREATED:20190501T212508Z
LAST-MODIFIED:20190501T212508Z
UID:22993-1557086400-1557086400@sfbaytimes.com
SUMMARY:The 20th Annual How Weird Street Faire
DESCRIPTION:@ Howard and 2nd Streets. The event\, celebrating peace\, creativity and weirdness\, features music and art\, a quirky marketplace\, a cannabis education area\, and many memorable performances. Noon to 8pm. http://www.howweird.org \n
URL:https://sfbaytimes.com/event/20th-annual-weird-street-faire/
END:VEVENT
END:VCALENDAR