BEGIN:VCALENDAR
VERSION:2.0
PRODID:-//San Francisco Bay Times - ECPv5.1.0//NONSGML v1.0//EN
CALSCALE:GREGORIAN
METHOD:PUBLISH
X-WR-CALNAME:San Francisco Bay Times
X-ORIGINAL-URL:https://sfbaytimes.com
X-WR-CALDESC:Events for San Francisco Bay Times
BEGIN:VTIMEZONE
TZID:America/Los_Angeles
BEGIN:DAYLIGHT
TZOFFSETFROM:-0800
TZOFFSETTO:-0700
TZNAME:PDT
DTSTART:20180311T100000
END:DAYLIGHT
BEGIN:STANDARD
TZOFFSETFROM:-0700
TZOFFSETTO:-0800
TZNAME:PST
DTSTART:20181104T090000
END:STANDARD
END:VTIMEZONE
BEGIN:VEVENT
DTSTART;VALUE=DATE:20180322
DTEND;VALUE=DATE:20180323
DTSTAMP:20260423T234538
CREATED:20180321T173232Z
LAST-MODIFIED:20180321T173232Z
UID:17170-1521676800-1521763199@sfbaytimes.com
SUMMARY:21st Annual Sonoma International Film Festival
DESCRIPTION:@ Multiple locations. The Festival continues through March 25 with more than 100 films and culinary extravaganzas. sonomafilmfest.org \n
URL:https://sfbaytimes.com/event/21st-annual-sonoma-international-film-festival/
END:VEVENT
END:VCALENDAR