BEGIN:VCALENDAR
VERSION:2.0
PRODID:-//San Francisco Bay Times - ECPv5.1.0//NONSGML v1.0//EN
CALSCALE:GREGORIAN
METHOD:PUBLISH
X-WR-CALNAME:San Francisco Bay Times
X-ORIGINAL-URL:https://sfbaytimes.com
X-WR-CALDESC:Events for San Francisco Bay Times
BEGIN:VTIMEZONE
TZID:America/Los_Angeles
BEGIN:DAYLIGHT
TZOFFSETFROM:-0800
TZOFFSETTO:-0700
TZNAME:PDT
DTSTART:20190310T100000
END:DAYLIGHT
BEGIN:STANDARD
TZOFFSETFROM:-0700
TZOFFSETTO:-0800
TZNAME:PST
DTSTART:20191103T090000
END:STANDARD
END:VTIMEZONE
BEGIN:VEVENT
DTSTART;TZID=America/Los_Angeles:20190509T080000
DTEND;TZID=America/Los_Angeles:20190509T160000
DTSTAMP:20260420T174816
CREATED:20190501T213756Z
LAST-MODIFIED:20190501T213756Z
UID:23011-1557388800-1557417600@sfbaytimes.com
SUMMARY:21st Annual Updates on Dementia Conference
DESCRIPTION:@ South San Francisco Conference Center 255 S. Airport Blvd\, South San Francisco. Researchers and clinicians will present the latest research in the biological\, social\, psychological and cultural aspects of aging and dementia with particular emphasis on practical applications. 8am-4pm. http://www.updatesondementia.com \n
URL:https://sfbaytimes.com/event/21st-annual-updates-dementia-conference/
END:VEVENT
END:VCALENDAR