BEGIN:VCALENDAR
VERSION:2.0
PRODID:-//San Francisco Bay Times - ECPv5.1.0//NONSGML v1.0//EN
CALSCALE:GREGORIAN
METHOD:PUBLISH
X-WR-CALNAME:San Francisco Bay Times
X-ORIGINAL-URL:https://sfbaytimes.com
X-WR-CALDESC:Events for San Francisco Bay Times
BEGIN:VTIMEZONE
TZID:America/Los_Angeles
BEGIN:DAYLIGHT
TZOFFSETFROM:-0800
TZOFFSETTO:-0700
TZNAME:PDT
DTSTART:20170312T100000
END:DAYLIGHT
BEGIN:STANDARD
TZOFFSETFROM:-0700
TZOFFSETTO:-0800
TZNAME:PST
DTSTART:20171105T090000
END:STANDARD
END:VTIMEZONE
BEGIN:VEVENT
DTSTART;VALUE=DATE:20170801
DTEND;VALUE=DATE:20170804
DTSTAMP:20260424T034036
CREATED:20170728T195723Z
LAST-MODIFIED:20170728T195723Z
UID:13522-1501545600-1501804799@sfbaytimes.com
SUMMARY:29th Annual Lavender Law Conference & Career Fair
DESCRIPTION:@ Hyatt Regency San Francisco\, 5 Embarcadero. A three-day program of activities August 1-3\, including workshops\, general sessions and specialty sessions on family law\, transgender advocacy\, corporate counsel and careers with an LGBTQ Law Day on August 2 at UC Hastings School of Law and much more.\nlgbtbar.org \n
URL:https://sfbaytimes.com/event/29th-annual-lavender-law-conference-career-fair/
END:VEVENT
END:VCALENDAR