BEGIN:VCALENDAR
VERSION:2.0
PRODID:-//San Francisco Bay Times - ECPv5.1.0//NONSGML v1.0//EN
CALSCALE:GREGORIAN
METHOD:PUBLISH
X-WR-CALNAME:San Francisco Bay Times
X-ORIGINAL-URL:https://sfbaytimes.com
X-WR-CALDESC:Events for San Francisco Bay Times
BEGIN:VTIMEZONE
TZID:America/Los_Angeles
BEGIN:DAYLIGHT
TZOFFSETFROM:-0800
TZOFFSETTO:-0700
TZNAME:PDT
DTSTART:20170312T100000
END:DAYLIGHT
BEGIN:STANDARD
TZOFFSETFROM:-0700
TZOFFSETTO:-0800
TZNAME:PST
DTSTART:20171105T090000
END:STANDARD
END:VTIMEZONE
BEGIN:VEVENT
DTSTART;TZID=America/Los_Angeles:20170617T160000
DTEND;TZID=America/Los_Angeles:20170617T160000
DTSTAMP:20260423T092037
CREATED:20170607T221026Z
LAST-MODIFIED:20170607T221026Z
UID:12521-1497715200-1497715200@sfbaytimes.com
SUMMARY:2nd Annual LGBTQ Senior Prom
DESCRIPTION:@ Weinberg Auditorium\, Institute on Aging\, 3575 Geary Blvd. Celebrating Pride 2017\, the Senior Prom is a free event featuring a live band and other live entertainment\, line and free style dancing. 4-7pm. ioaging.org\n\n
URL:https://sfbaytimes.com/event/2nd-annual-lgbtq-senior-prom/
END:VEVENT
END:VCALENDAR