BEGIN:VCALENDAR
VERSION:2.0
PRODID:-//San Francisco Bay Times - ECPv5.1.0//NONSGML v1.0//EN
CALSCALE:GREGORIAN
METHOD:PUBLISH
X-WR-CALNAME:San Francisco Bay Times
X-ORIGINAL-URL:https://sfbaytimes.com
X-WR-CALDESC:Events for San Francisco Bay Times
BEGIN:VTIMEZONE
TZID:America/Los_Angeles
BEGIN:DAYLIGHT
TZOFFSETFROM:-0800
TZOFFSETTO:-0700
TZNAME:PDT
DTSTART:20170312T100000
END:DAYLIGHT
BEGIN:STANDARD
TZOFFSETFROM:-0700
TZOFFSETTO:-0800
TZNAME:PST
DTSTART:20171105T090000
END:STANDARD
END:VTIMEZONE
BEGIN:VEVENT
DTSTART;VALUE=DATE:20170709
DTEND;VALUE=DATE:20170710
DTSTAMP:20260421T205534
CREATED:20170620T214409Z
LAST-MODIFIED:20170620T214409Z
UID:12773-1499558400-1499558400@sfbaytimes.com
SUMMARY:3rd Annual Misfit Art Auction
DESCRIPTION:@ 1890 Bryant Street Studios\, 1890 Bryant Street. An auction benefiting the UCSF Alliance Health Project. dk.haas@ucsf.edu \n
URL:https://sfbaytimes.com/event/3rd-annual-misfit-art-auction/
END:VEVENT
END:VCALENDAR