BEGIN:VCALENDAR
VERSION:2.0
PRODID:-//San Francisco Bay Times - ECPv5.1.0//NONSGML v1.0//EN
CALSCALE:GREGORIAN
METHOD:PUBLISH
X-WR-CALNAME:San Francisco Bay Times
X-ORIGINAL-URL:https://sfbaytimes.com
X-WR-CALDESC:Events for San Francisco Bay Times
BEGIN:VTIMEZONE
TZID:America/Los_Angeles
BEGIN:DAYLIGHT
TZOFFSETFROM:-0800
TZOFFSETTO:-0700
TZNAME:PDT
DTSTART:20170312T100000
END:DAYLIGHT
BEGIN:STANDARD
TZOFFSETFROM:-0700
TZOFFSETTO:-0800
TZNAME:PST
DTSTART:20171105T090000
END:STANDARD
END:VTIMEZONE
BEGIN:VEVENT
DTSTART;TZID=America/Los_Angeles:20171116T200000
DTEND;TZID=America/Los_Angeles:20171116T200000
DTSTAMP:20260423T021611
CREATED:20171114T222919Z
LAST-MODIFIED:20171114T222919Z
UID:15136-1510862400-1510862400@sfbaytimes.com
SUMMARY:The Further Adventures of Hedda Gabler
DESCRIPTION:@ Dragon Theatre\, 2120 Broadway Street\, Redwood City. Authored by Avenue Q playwright Jeff Whitty\, the comedy presents Hedda of the Ibsen classic who finds herself in an adventure with child-murdering Medea and Mammy (from Gone With the Wind). 8pm. Continues Thursdays-Sundays through November 19. dragonproductions.net  \n
URL:https://sfbaytimes.com/event/adventures-hedda-gabler-2/
END:VEVENT
END:VCALENDAR