BEGIN:VCALENDAR
VERSION:2.0
PRODID:-//San Francisco Bay Times - ECPv5.1.0//NONSGML v1.0//EN
CALSCALE:GREGORIAN
METHOD:PUBLISH
X-WR-CALNAME:San Francisco Bay Times
X-ORIGINAL-URL:https://sfbaytimes.com
X-WR-CALDESC:Events for San Francisco Bay Times
BEGIN:VTIMEZONE
TZID:America/Los_Angeles
BEGIN:DAYLIGHT
TZOFFSETFROM:-0800
TZOFFSETTO:-0700
TZNAME:PDT
DTSTART:20180311T100000
END:DAYLIGHT
BEGIN:STANDARD
TZOFFSETFROM:-0700
TZOFFSETTO:-0800
TZNAME:PST
DTSTART:20181104T090000
END:STANDARD
END:VTIMEZONE
BEGIN:VEVENT
DTSTART;TZID=America/Los_Angeles:20180729T110000
DTEND;TZID=America/Los_Angeles:20180729T180000
DTSTAMP:20260421T105634
CREATED:20180726T183643Z
LAST-MODIFIED:20180726T183643Z
UID:18851-1532862000-1532887200@sfbaytimes.com
SUMMARY:Up Your Alley Fair (Dore Alley Street Fair)
DESCRIPTION:@ Dore Alley between Howard and Folsom. Described as not for the faint of heart\, this annual event features leather daddies\, fetish and BDSM enthusiasts and more with serious and not so serious demonstrations guaranteed to make your eyes big if you haven’t been before. 11am-6pm. http://www.folsomstreetevents.org \n
URL:https://sfbaytimes.com/event/alley-fair-dore-alley-street-fair/
END:VEVENT
END:VCALENDAR