BEGIN:VCALENDAR
VERSION:2.0
PRODID:-//San Francisco Bay Times - ECPv5.1.0//NONSGML v1.0//EN
CALSCALE:GREGORIAN
METHOD:PUBLISH
X-WR-CALNAME:San Francisco Bay Times
X-ORIGINAL-URL:https://sfbaytimes.com
X-WR-CALDESC:Events for San Francisco Bay Times
BEGIN:VTIMEZONE
TZID:America/Los_Angeles
BEGIN:DAYLIGHT
TZOFFSETFROM:-0800
TZOFFSETTO:-0700
TZNAME:PDT
DTSTART:20170312T100000
END:DAYLIGHT
BEGIN:STANDARD
TZOFFSETFROM:-0700
TZOFFSETTO:-0800
TZNAME:PST
DTSTART:20171105T090000
END:STANDARD
END:VTIMEZONE
BEGIN:VEVENT
DTSTART;TZID=America/Los_Angeles:20170730T110000
DTEND;TZID=America/Los_Angeles:20170730T180000
DTSTAMP:20260424T020746
CREATED:20170728T194322Z
LAST-MODIFIED:20170728T194322Z
UID:13510-1501412400-1501437600@sfbaytimes.com
SUMMARY:Up Your Alley Street Fair
DESCRIPTION:@ Dore Alley between Howard and Folsom and more. Known as the Folsom Street Fair’s “Dirty Little Brother\,” the event is a serious leather scene attended by 15\,000+ and features spanking\, punching\, whips and floggers\, bondage\, domination and submission. 11am-6pm.\nfolsomstreetevents.org \n
URL:https://sfbaytimes.com/event/alley-street-fair/
END:VEVENT
END:VCALENDAR