BEGIN:VCALENDAR
VERSION:2.0
PRODID:-//San Francisco Bay Times - ECPv5.1.0//NONSGML v1.0//EN
CALSCALE:GREGORIAN
METHOD:PUBLISH
X-WR-CALNAME:San Francisco Bay Times
X-ORIGINAL-URL:https://sfbaytimes.com
X-WR-CALDESC:Events for San Francisco Bay Times
BEGIN:VTIMEZONE
TZID:America/Los_Angeles
BEGIN:DAYLIGHT
TZOFFSETFROM:-0800
TZOFFSETTO:-0700
TZNAME:PDT
DTSTART:20190310T100000
END:DAYLIGHT
BEGIN:STANDARD
TZOFFSETFROM:-0700
TZOFFSETTO:-0800
TZNAME:PST
DTSTART:20191103T090000
END:STANDARD
END:VTIMEZONE
BEGIN:VEVENT
DTSTART;TZID=America/Los_Angeles:20190520T200000
DTEND;TZID=America/Los_Angeles:20190520T200000
DTSTAMP:20260420T161655
CREATED:20190515T220812Z
LAST-MODIFIED:20190515T220812Z
UID:23198-1558382400-1558382400@sfbaytimes.com
SUMMARY:Ambassador Dan Baer: The First Openly Gay Man in the Senate?
DESCRIPTION:@ Manny’s\, 3092 16th Street Meet Ambassador Dan Baer who is running for Senate in Colorado and if elected\, he would be the first openly gay man in the U.S. Senate. 8pm. http://www.welcometomannys.com \n
URL:https://sfbaytimes.com/event/ambassador-dan-baer-first-openly-gay-man-senate/
END:VEVENT
END:VCALENDAR