BEGIN:VCALENDAR
VERSION:2.0
PRODID:-//San Francisco Bay Times - ECPv5.1.0//NONSGML v1.0//EN
CALSCALE:GREGORIAN
METHOD:PUBLISH
X-WR-CALNAME:San Francisco Bay Times
X-ORIGINAL-URL:https://sfbaytimes.com
X-WR-CALDESC:Events for San Francisco Bay Times
BEGIN:VTIMEZONE
TZID:America/Los_Angeles
BEGIN:DAYLIGHT
TZOFFSETFROM:-0800
TZOFFSETTO:-0700
TZNAME:PDT
DTSTART:20170312T100000
END:DAYLIGHT
BEGIN:STANDARD
TZOFFSETFROM:-0700
TZOFFSETTO:-0800
TZNAME:PST
DTSTART:20171105T090000
END:STANDARD
END:VTIMEZONE
BEGIN:VEVENT
DTSTART;TZID=America/Los_Angeles:20171105T190000
DTEND;TZID=America/Los_Angeles:20171105T190000
DTSTAMP:20260425T205900
CREATED:20171101T182533Z
LAST-MODIFIED:20171101T182533Z
UID:14897-1509908400-1509908400@sfbaytimes.com
SUMMARY:Anthony de Mare\, Piano Recital
DESCRIPTION:@ Hertz Hall\, 101 Cross-Sproul Path\, Berkeley. Cal Performances presents the pianist and new music champion performing a program of commissioned works based on Sondheim classics reimagined by prominent composers. 7pm. calperformances.org \n
URL:https://sfbaytimes.com/event/anthony-de-mare-piano-recital/
END:VEVENT
END:VCALENDAR