BEGIN:VCALENDAR
VERSION:2.0
PRODID:-//San Francisco Bay Times - ECPv5.1.0//NONSGML v1.0//EN
CALSCALE:GREGORIAN
METHOD:PUBLISH
X-WR-CALNAME:San Francisco Bay Times
X-ORIGINAL-URL:https://sfbaytimes.com
X-WR-CALDESC:Events for San Francisco Bay Times
BEGIN:VTIMEZONE
TZID:America/Los_Angeles
BEGIN:DAYLIGHT
TZOFFSETFROM:-0800
TZOFFSETTO:-0700
TZNAME:PDT
DTSTART:20180311T100000
END:DAYLIGHT
BEGIN:STANDARD
TZOFFSETFROM:-0700
TZOFFSETTO:-0800
TZNAME:PST
DTSTART:20181104T090000
END:STANDARD
END:VTIMEZONE
BEGIN:VEVENT
DTSTART;TZID=America/Los_Angeles:20180309T200000
DTEND;TZID=America/Los_Angeles:20180309T220000
DTSTAMP:20260424T053035
CREATED:20180309T180025Z
LAST-MODIFIED:20180309T180025Z
UID:17051-1520625600-1520632800@sfbaytimes.com
SUMMARY:Bad Ass Boots Back Where It All Began
DESCRIPTION:@ High Street Station\, 1303 High Street\, Alameda. The East Bay based band returns to High Street Station to present a Video Release and CD Fundraiser Party. 8–10pm. Bad Ass Boots on Facebook. \n
URL:https://sfbaytimes.com/event/bad-ass-boots-back-began/
END:VEVENT
END:VCALENDAR