BEGIN:VCALENDAR
VERSION:2.0
PRODID:-//San Francisco Bay Times - ECPv5.1.0//NONSGML v1.0//EN
CALSCALE:GREGORIAN
METHOD:PUBLISH
X-WR-CALNAME:San Francisco Bay Times
X-ORIGINAL-URL:https://sfbaytimes.com
X-WR-CALDESC:Events for San Francisco Bay Times
BEGIN:VTIMEZONE
TZID:America/Los_Angeles
BEGIN:DAYLIGHT
TZOFFSETFROM:-0800
TZOFFSETTO:-0700
TZNAME:PDT
DTSTART:20180311T100000
END:DAYLIGHT
BEGIN:STANDARD
TZOFFSETFROM:-0700
TZOFFSETTO:-0800
TZNAME:PST
DTSTART:20181104T090000
END:STANDARD
END:VTIMEZONE
BEGIN:VEVENT
DTSTART;TZID=America/Los_Angeles:20180310T160000
DTEND;TZID=America/Los_Angeles:20180310T160000
DTSTAMP:20260424T070634
CREATED:20180309T224647Z
LAST-MODIFIED:20180309T224647Z
UID:17061-1520697600-1520697600@sfbaytimes.com
SUMMARY:From Baghdad to The Bay Film Screening
DESCRIPTION:@ Hammer Theater\, San Jose. The screening will be the world premiere at Cinequest Film Festival of Ghazwan Alsharif’s story about struggling to rebuild his life after being ostracized from his family while also coming out as a gay man in the U.S. 4pm and also on Sunday at 3:15pm. frombaghdadtothebay.com \n
URL:https://sfbaytimes.com/event/baghdad-bay-film-screening/
END:VEVENT
END:VCALENDAR