BEGIN:VCALENDAR
VERSION:2.0
PRODID:-//San Francisco Bay Times - ECPv5.1.0//NONSGML v1.0//EN
CALSCALE:GREGORIAN
METHOD:PUBLISH
X-WR-CALNAME:San Francisco Bay Times
X-ORIGINAL-URL:https://sfbaytimes.com
X-WR-CALDESC:Events for San Francisco Bay Times
BEGIN:VTIMEZONE
TZID:America/Los_Angeles
BEGIN:DAYLIGHT
TZOFFSETFROM:-0800
TZOFFSETTO:-0700
TZNAME:PDT
DTSTART:20180311T100000
END:DAYLIGHT
BEGIN:STANDARD
TZOFFSETFROM:-0700
TZOFFSETTO:-0800
TZNAME:PST
DTSTART:20181104T090000
END:STANDARD
END:VTIMEZONE
BEGIN:VEVENT
DTSTART;TZID=America/Los_Angeles:20180311T153000
DTEND;TZID=America/Los_Angeles:20180311T173000
DTSTAMP:20260424T053132
CREATED:20180309T224915Z
LAST-MODIFIED:20180309T224915Z
UID:17065-1520782200-1520789400@sfbaytimes.com
SUMMARY:The Barbary Coast Cloggers - Clogging Classes
DESCRIPTION:@ Oberlin Dance Commons\, 351 Shotwell. Lessons every Sunday for beginners at 3:30pm progressing to intermediate and advanced levels. 3:30–5:30pm. barbarycoast.org \n
URL:https://sfbaytimes.com/event/barbary-coast-cloggers-clogging-classes-2/
END:VEVENT
END:VCALENDAR