BEGIN:VCALENDAR
VERSION:2.0
PRODID:-//San Francisco Bay Times - ECPv5.1.0//NONSGML v1.0//EN
CALSCALE:GREGORIAN
METHOD:PUBLISH
X-WR-CALNAME:San Francisco Bay Times
X-ORIGINAL-URL:https://sfbaytimes.com
X-WR-CALDESC:Events for San Francisco Bay Times
BEGIN:VTIMEZONE
TZID:America/Los_Angeles
BEGIN:DAYLIGHT
TZOFFSETFROM:-0800
TZOFFSETTO:-0700
TZNAME:PDT
DTSTART:20170312T100000
END:DAYLIGHT
BEGIN:STANDARD
TZOFFSETFROM:-0700
TZOFFSETTO:-0800
TZNAME:PST
DTSTART:20171105T090000
END:STANDARD
END:VTIMEZONE
BEGIN:VEVENT
DTSTART;TZID=America/Los_Angeles:20170715T100000
DTEND;TZID=America/Los_Angeles:20170715T120000
DTSTAMP:20260421T201125
CREATED:20170714T031846Z
LAST-MODIFIED:20170714T031846Z
UID:13052-1500112800-1500120000@sfbaytimes.com
SUMMARY:Barbary Coast Trail Walk – Portsmouth Square\, Jackson Square and the Barbary Coast
DESCRIPTION:@ Meeting place TBA. Join SF Museum & Historical Society tour guides for a walk through history from the birthplace of the Gold Rush and the village of Yerba Buena\, along Commercial Street to the original shoreline and on. 10am-12pm. sfhistory.org \n
URL:https://sfbaytimes.com/event/barbary-coast-trail-walk-portsmouth-square-jackson-square-barbary-coast/
END:VEVENT
END:VCALENDAR