BEGIN:VCALENDAR
VERSION:2.0
PRODID:-//San Francisco Bay Times - ECPv5.1.0//NONSGML v1.0//EN
CALSCALE:GREGORIAN
METHOD:PUBLISH
X-WR-CALNAME:San Francisco Bay Times
X-ORIGINAL-URL:https://sfbaytimes.com
X-WR-CALDESC:Events for San Francisco Bay Times
BEGIN:VTIMEZONE
TZID:America/Los_Angeles
BEGIN:DAYLIGHT
TZOFFSETFROM:-0800
TZOFFSETTO:-0700
TZNAME:PDT
DTSTART:20180311T100000
END:DAYLIGHT
BEGIN:STANDARD
TZOFFSETFROM:-0700
TZOFFSETTO:-0800
TZNAME:PST
DTSTART:20181104T090000
END:STANDARD
END:VTIMEZONE
BEGIN:VEVENT
DTSTART;TZID=America/Los_Angeles:20181006T160000
DTEND;TZID=America/Los_Angeles:20181006T190000
DTSTAMP:20260419T190209
CREATED:20181006T212238Z
LAST-MODIFIED:20181006T212238Z
UID:19833-1538841600-1538852400@sfbaytimes.com
SUMMARY:Beer Bust Fundraiser for Castro Cares
DESCRIPTION:@ Beaux\, 2344 Market Street. Guest emcee Au Jus welcomes the Dance Off between Team Mandelman and Team Wiener. 4-7pm. http://www.castrocares.org/ \n
URL:https://sfbaytimes.com/event/beer-bust-fundraiser-castro-cares/
END:VEVENT
END:VCALENDAR