BEGIN:VCALENDAR
VERSION:2.0
PRODID:-//San Francisco Bay Times - ECPv5.1.0//NONSGML v1.0//EN
CALSCALE:GREGORIAN
METHOD:PUBLISH
X-WR-CALNAME:San Francisco Bay Times
X-ORIGINAL-URL:https://sfbaytimes.com
X-WR-CALDESC:Events for San Francisco Bay Times
BEGIN:VTIMEZONE
TZID:America/Los_Angeles
BEGIN:DAYLIGHT
TZOFFSETFROM:-0800
TZOFFSETTO:-0700
TZNAME:PDT
DTSTART:20180311T100000
END:DAYLIGHT
BEGIN:STANDARD
TZOFFSETFROM:-0700
TZOFFSETTO:-0800
TZNAME:PST
DTSTART:20181104T090000
END:STANDARD
END:VTIMEZONE
BEGIN:VEVENT
DTSTART;VALUE=DATE:20180312
DTEND;VALUE=DATE:20180313
DTSTAMP:20260424T070746
CREATED:20180309T225353Z
LAST-MODIFIED:20180309T225353Z
UID:17073-1520812800-1520899199@sfbaytimes.com
SUMMARY:“Best Photo” Photography Exhibition
DESCRIPTION:@ Harvey Milk Photo Center\, 50 Scott Street.  Presented by Through the Lens & Harvey Milk Photo Center\, the exhibit continues through March 22. Check schedule for Tuesdays–Thurdays\, Saturdays and Sundays. harveymilkphotocenter.org \n
URL:https://sfbaytimes.com/event/best-photo-photography-exhibition/
END:VEVENT
END:VCALENDAR