BEGIN:VCALENDAR
VERSION:2.0
PRODID:-//San Francisco Bay Times - ECPv5.1.0//NONSGML v1.0//EN
CALSCALE:GREGORIAN
METHOD:PUBLISH
X-WR-CALNAME:San Francisco Bay Times
X-ORIGINAL-URL:https://sfbaytimes.com
X-WR-CALDESC:Events for San Francisco Bay Times
BEGIN:VTIMEZONE
TZID:America/Los_Angeles
BEGIN:DAYLIGHT
TZOFFSETFROM:-0800
TZOFFSETTO:-0700
TZNAME:PDT
DTSTART:20170312T100000
END:DAYLIGHT
BEGIN:STANDARD
TZOFFSETFROM:-0700
TZOFFSETTO:-0800
TZNAME:PST
DTSTART:20171105T090000
END:STANDARD
END:VTIMEZONE
BEGIN:VEVENT
DTSTART;TZID=America/Los_Angeles:20170813T120000
DTEND;TZID=America/Los_Angeles:20170813T120000
DTSTAMP:20260423T071708
CREATED:20170809T231514Z
LAST-MODIFIED:20170809T231514Z
UID:13556-1502625600-1502625600@sfbaytimes.com
SUMMARY:Binda’s Big Birthday Bash with Pam & Jeri
DESCRIPTION:@ Muir Beach Community Center\, 19 Seascape Drive\, Muir Beach. Potluck lunch plus music and dancing. 12pm.  lcampbell731@gmail.com \n
URL:https://sfbaytimes.com/event/bindas-big-birthday-bash-pam-jeri/
END:VEVENT
END:VCALENDAR