BEGIN:VCALENDAR
VERSION:2.0
PRODID:-//San Francisco Bay Times - ECPv5.1.0//NONSGML v1.0//EN
CALSCALE:GREGORIAN
METHOD:PUBLISH
X-WR-CALNAME:San Francisco Bay Times
X-ORIGINAL-URL:https://sfbaytimes.com
X-WR-CALDESC:Events for San Francisco Bay Times
BEGIN:VTIMEZONE
TZID:America/Los_Angeles
BEGIN:DAYLIGHT
TZOFFSETFROM:-0800
TZOFFSETTO:-0700
TZNAME:PDT
DTSTART:20180311T100000
END:DAYLIGHT
BEGIN:STANDARD
TZOFFSETFROM:-0700
TZOFFSETTO:-0800
TZNAME:PST
DTSTART:20181104T090000
END:STANDARD
END:VTIMEZONE
BEGIN:VEVENT
DTSTART;TZID=America/Los_Angeles:20180101T110000
DTEND;TZID=America/Los_Angeles:20180101T140000
DTSTAMP:20260425T225355
CREATED:20171220T232044Z
LAST-MODIFIED:20171220T232044Z
UID:15949-1514804400-1514815200@sfbaytimes.com
SUMMARY:Bloody Marys on the Bay - Schooner Freda B
DESCRIPTION:@ Slip 907\, Sausalito Yacht Harbor\, 100 Bay Street\, Sausalito. A Bloody Mary or Mimosa plus light breakfast of pastries\, fruits and cheeses plus a sail on San Francisco Bay aboard one of the most beautiful vessels of the Bay Area. 11am-2pm.  \nschoonerfredab.com \n
URL:https://sfbaytimes.com/event/bloody-marys-bay-schooner-freda-b/
END:VEVENT
END:VCALENDAR