BEGIN:VCALENDAR
VERSION:2.0
PRODID:-//San Francisco Bay Times - ECPv5.1.0//NONSGML v1.0//EN
CALSCALE:GREGORIAN
METHOD:PUBLISH
X-WR-CALNAME:San Francisco Bay Times
X-ORIGINAL-URL:https://sfbaytimes.com
X-WR-CALDESC:Events for San Francisco Bay Times
BEGIN:VTIMEZONE
TZID:America/Los_Angeles
BEGIN:DAYLIGHT
TZOFFSETFROM:-0800
TZOFFSETTO:-0700
TZNAME:PDT
DTSTART:20170312T100000
END:DAYLIGHT
BEGIN:STANDARD
TZOFFSETFROM:-0700
TZOFFSETTO:-0800
TZNAME:PST
DTSTART:20171105T090000
END:STANDARD
END:VTIMEZONE
BEGIN:VEVENT
DTSTART;TZID=America/Los_Angeles:20170622T190000
DTEND;TZID=America/Los_Angeles:20170622T190000
DTSTAMP:20260422T012827
CREATED:20170620T202309Z
LAST-MODIFIED:20170620T202309Z
UID:12667-1498158000-1498158000@sfbaytimes.com
SUMMARY:Book Reading with Helen Klonaris
DESCRIPTION:@ Laurel Books\, 1423 Broadway\, Oakland. Reading from her short story collection If I Had Wings\, Klonaris will be joined by poet and performer Amir Rabiyah with a book signing following the reading. 7pm. laurelbookstore.com \n
URL:https://sfbaytimes.com/event/book-reading-with-helen-klonaris/
END:VEVENT
END:VCALENDAR