BEGIN:VCALENDAR
VERSION:2.0
PRODID:-//San Francisco Bay Times - ECPv5.1.0//NONSGML v1.0//EN
CALSCALE:GREGORIAN
METHOD:PUBLISH
X-WR-CALNAME:San Francisco Bay Times
X-ORIGINAL-URL:https://sfbaytimes.com
X-WR-CALDESC:Events for San Francisco Bay Times
BEGIN:VTIMEZONE
TZID:America/Los_Angeles
BEGIN:DAYLIGHT
TZOFFSETFROM:-0800
TZOFFSETTO:-0700
TZNAME:PDT
DTSTART:20170312T100000
END:DAYLIGHT
BEGIN:STANDARD
TZOFFSETFROM:-0700
TZOFFSETTO:-0800
TZNAME:PST
DTSTART:20171105T090000
END:STANDARD
END:VTIMEZONE
BEGIN:VEVENT
DTSTART;TZID=America/Los_Angeles:20170921T193000
DTEND;TZID=America/Los_Angeles:20170921T193000
DTSTAMP:20260422T075754
CREATED:20170921T225917Z
LAST-MODIFIED:20170921T225917Z
UID:14277-1506022200-1506022200@sfbaytimes.com
SUMMARY:Cabaret
DESCRIPTION:@ Marin Art and Garden Center\, 30 Sir Francis Drake Blvd\, Ross. The Ross Valley Players present the classic play through October 15.\nrossvalleyplayers.com \n
URL:https://sfbaytimes.com/event/cabaret/
END:VEVENT
END:VCALENDAR