BEGIN:VCALENDAR
VERSION:2.0
PRODID:-//San Francisco Bay Times - ECPv5.1.0//NONSGML v1.0//EN
CALSCALE:GREGORIAN
METHOD:PUBLISH
X-WR-CALNAME:San Francisco Bay Times
X-ORIGINAL-URL:https://sfbaytimes.com
X-WR-CALDESC:Events for San Francisco Bay Times
BEGIN:VTIMEZONE
TZID:America/Los_Angeles
BEGIN:DAYLIGHT
TZOFFSETFROM:-0800
TZOFFSETTO:-0700
TZNAME:PDT
DTSTART:20180311T100000
END:DAYLIGHT
BEGIN:STANDARD
TZOFFSETFROM:-0700
TZOFFSETTO:-0800
TZNAME:PST
DTSTART:20181104T090000
END:STANDARD
END:VTIMEZONE
BEGIN:VEVENT
DTSTART;TZID=America/Los_Angeles:20181002T190000
DTEND;TZID=America/Los_Angeles:20181002T210000
DTSTAMP:20260419T204019
CREATED:20180923T205615Z
LAST-MODIFIED:20180923T205628Z
UID:19672-1538506800-1538514000@sfbaytimes.com
SUMMARY:Call Her Ganda Frameline Encore Screening
DESCRIPTION:@ Landmark’s Piedmont Theatre\, 4186 Piedmont Avenue\, Oakland. A free screening hosted by Frameline of the film about the painful story concerning the brutal murder of a transgender woman by a U.S. Marine in the Philippines. 7-9pm. http://www.frameline.org \n
URL:https://sfbaytimes.com/event/call-ganda-frameline-encore-screening/
END:VEVENT
END:VCALENDAR