BEGIN:VCALENDAR
VERSION:2.0
PRODID:-//San Francisco Bay Times - ECPv5.1.0//NONSGML v1.0//EN
CALSCALE:GREGORIAN
METHOD:PUBLISH
X-WR-CALNAME:San Francisco Bay Times
X-ORIGINAL-URL:https://sfbaytimes.com
X-WR-CALDESC:Events for San Francisco Bay Times
BEGIN:VTIMEZONE
TZID:America/Los_Angeles
BEGIN:DAYLIGHT
TZOFFSETFROM:-0800
TZOFFSETTO:-0700
TZNAME:PDT
DTSTART:20170312T100000
END:DAYLIGHT
BEGIN:STANDARD
TZOFFSETFROM:-0700
TZOFFSETTO:-0800
TZNAME:PST
DTSTART:20171105T090000
END:STANDARD
END:VTIMEZONE
BEGIN:VEVENT
DTSTART;TZID=America/Los_Angeles:20171119T190000
DTEND;TZID=America/Los_Angeles:20171119T190000
DTSTAMP:20260422T043044
CREATED:20171114T231934Z
LAST-MODIFIED:20171114T231934Z
UID:15166-1511118000-1511118000@sfbaytimes.com
SUMMARY:Cast Members from Disney’s Aladdin
DESCRIPTION:@ Feinstein’s at the Nikko\, 222 Mason. Benefiting Broadway Cares/Equity Fights AIDS\, the program features Aladdin cast members performing their favorite songs and sharing stories. 7pm. feinsteinssf.com \n
URL:https://sfbaytimes.com/event/cast-members-disneys-aladdin/
END:VEVENT
END:VCALENDAR