BEGIN:VCALENDAR
VERSION:2.0
PRODID:-//San Francisco Bay Times - ECPv5.1.0//NONSGML v1.0//EN
CALSCALE:GREGORIAN
METHOD:PUBLISH
X-WR-CALNAME:San Francisco Bay Times
X-ORIGINAL-URL:https://sfbaytimes.com
X-WR-CALDESC:Events for San Francisco Bay Times
BEGIN:VTIMEZONE
TZID:America/Los_Angeles
BEGIN:DAYLIGHT
TZOFFSETFROM:-0800
TZOFFSETTO:-0700
TZNAME:PDT
DTSTART:20190310T100000
END:DAYLIGHT
BEGIN:STANDARD
TZOFFSETFROM:-0700
TZOFFSETTO:-0800
TZNAME:PST
DTSTART:20191103T090000
END:STANDARD
END:VTIMEZONE
BEGIN:VEVENT
DTSTART;TZID=America/Los_Angeles:20190422T200000
DTEND;TZID=America/Los_Angeles:20190422T220000
DTSTAMP:20260420T143420
CREATED:20190422T205800Z
LAST-MODIFIED:20190422T205800Z
UID:22879-1555963200-1555970400@sfbaytimes.com
SUMMARY:Castro on Canvas: The Art of Ramon Pablo Vidali
DESCRIPTION:@ Strut\, 470 Castro Street. The exhibit is a display of work by Ramon Pablo Vidali celebrating the 40th Anniversary of the Sisters of Perpetual Indulgence. Continuing through the ened of this month-8-10pm. http://www.strutsf.com \n
URL:https://sfbaytimes.com/event/castro-canvas-art-ramon-pablo-vidali-3/
END:VEVENT
END:VCALENDAR