BEGIN:VCALENDAR
VERSION:2.0
PRODID:-//San Francisco Bay Times - ECPv5.1.0//NONSGML v1.0//EN
CALSCALE:GREGORIAN
METHOD:PUBLISH
X-WR-CALNAME:San Francisco Bay Times
X-ORIGINAL-URL:https://sfbaytimes.com
X-WR-CALDESC:Events for San Francisco Bay Times
BEGIN:VTIMEZONE
TZID:America/Los_Angeles
BEGIN:DAYLIGHT
TZOFFSETFROM:-0800
TZOFFSETTO:-0700
TZNAME:PDT
DTSTART:20190310T100000
END:DAYLIGHT
BEGIN:STANDARD
TZOFFSETFROM:-0700
TZOFFSETTO:-0800
TZNAME:PST
DTSTART:20191103T090000
END:STANDARD
END:VTIMEZONE
BEGIN:VEVENT
DTSTART;TZID=America/Los_Angeles:20190517T200000
DTEND;TZID=America/Los_Angeles:20190517T220000
DTSTAMP:20260420T161353
CREATED:20190515T214353Z
LAST-MODIFIED:20190515T214353Z
UID:23161-1558123200-1558130400@sfbaytimes.com
SUMMARY:Castro Comedy: Bisexualapalooza!
DESCRIPTION:@ Strut\, 470 Castro Street. Hosted by comedian Wonder Dave\, this month’s edition in the continuing series includes an all bisexual lineup of five: Sureni Weerasekera\, Arjun Banerjee\, Max Eddy\, Chey Bell and Jessical Sele. 8-10pm. http://www.strutsf.org \n
URL:https://sfbaytimes.com/event/castro-comedy-bisexualapalooza/
END:VEVENT
END:VCALENDAR