BEGIN:VCALENDAR
VERSION:2.0
PRODID:-//San Francisco Bay Times - ECPv5.1.0//NONSGML v1.0//EN
CALSCALE:GREGORIAN
METHOD:PUBLISH
X-WR-CALNAME:San Francisco Bay Times
X-ORIGINAL-URL:https://sfbaytimes.com
X-WR-CALDESC:Events for San Francisco Bay Times
BEGIN:VTIMEZONE
TZID:America/Los_Angeles
BEGIN:DAYLIGHT
TZOFFSETFROM:-0800
TZOFFSETTO:-0700
TZNAME:PDT
DTSTART:20190310T100000
END:DAYLIGHT
BEGIN:STANDARD
TZOFFSETFROM:-0700
TZOFFSETTO:-0800
TZNAME:PST
DTSTART:20191103T090000
END:STANDARD
END:VTIMEZONE
BEGIN:VEVENT
DTSTART;TZID=America/Los_Angeles:20190515T170000
DTEND;TZID=America/Los_Angeles:20190515T200000
DTSTAMP:20260420T161548
CREATED:20190501T215925Z
LAST-MODIFIED:20190501T215925Z
UID:23041-1557939600-1557950400@sfbaytimes.com
SUMMARY:Castro Farmers’ Market
DESCRIPTION:@ Noe Street\, 16th and Market. Every Wednesday from March through November\, the street next to Flore and Lookout is abloom with fresh fruits and vegetables\, rain or shine. 5-8pm. http://www.pcfma.org \n
URL:https://sfbaytimes.com/event/castro-farmers-market-15/
END:VEVENT
END:VCALENDAR