BEGIN:VCALENDAR
VERSION:2.0
PRODID:-//San Francisco Bay Times - ECPv5.1.0//NONSGML v1.0//EN
CALSCALE:GREGORIAN
METHOD:PUBLISH
X-WR-CALNAME:San Francisco Bay Times
X-ORIGINAL-URL:https://sfbaytimes.com
X-WR-CALDESC:Events for San Francisco Bay Times
BEGIN:VTIMEZONE
TZID:America/Los_Angeles
BEGIN:DAYLIGHT
TZOFFSETFROM:-0800
TZOFFSETTO:-0700
TZNAME:PDT
DTSTART:20170312T100000
END:DAYLIGHT
BEGIN:STANDARD
TZOFFSETFROM:-0700
TZOFFSETTO:-0800
TZNAME:PST
DTSTART:20171105T090000
END:STANDARD
END:VTIMEZONE
BEGIN:VEVENT
DTSTART;TZID=America/Los_Angeles:20170913T160000
DTEND;TZID=America/Los_Angeles:20170913T200000
DTSTAMP:20260421T182522
CREATED:20170908T212339Z
LAST-MODIFIED:20170908T212339Z
UID:14139-1505318400-1505332800@sfbaytimes.com
SUMMARY:Castro Farmers Market
DESCRIPTION:@ Noe & Market Streets. On-going outdoor market in the Castro featuring fresh and organic foods from local vendors. 4pm-8pm\, every Wednesday through Nov. 4-8pm. pcfma.org \n
URL:https://sfbaytimes.com/event/castro-farmers-market-2/
END:VEVENT
END:VCALENDAR