BEGIN:VCALENDAR
VERSION:2.0
PRODID:-//San Francisco Bay Times - ECPv5.1.0//NONSGML v1.0//EN
CALSCALE:GREGORIAN
METHOD:PUBLISH
X-WR-CALNAME:San Francisco Bay Times
X-ORIGINAL-URL:https://sfbaytimes.com
X-WR-CALDESC:Events for San Francisco Bay Times
BEGIN:VTIMEZONE
TZID:America/Los_Angeles
BEGIN:DAYLIGHT
TZOFFSETFROM:-0800
TZOFFSETTO:-0700
TZNAME:PDT
DTSTART:20180311T100000
END:DAYLIGHT
BEGIN:STANDARD
TZOFFSETFROM:-0700
TZOFFSETTO:-0800
TZNAME:PST
DTSTART:20181104T090000
END:STANDARD
END:VTIMEZONE
BEGIN:VEVENT
DTSTART;TZID=America/Los_Angeles:20180120T130000
DTEND;TZID=America/Los_Angeles:20180120T160000
DTSTAMP:20260425T135847
CREATED:20180116T031159Z
LAST-MODIFIED:20180116T031159Z
UID:16217-1516453200-1516464000@sfbaytimes.com
SUMMARY:Castro History Tour
DESCRIPTION:@ Starting at Harvey Milk Plaza. An informative walking tour led by activist Cleve Jones and featuring a downloadable recording. 1-4pm. detour.com/sanfrancico/castro \n
URL:https://sfbaytimes.com/event/castro-history-tour/
END:VEVENT
END:VCALENDAR