BEGIN:VCALENDAR
VERSION:2.0
PRODID:-//San Francisco Bay Times - ECPv5.1.0//NONSGML v1.0//EN
CALSCALE:GREGORIAN
METHOD:PUBLISH
X-WR-CALNAME:San Francisco Bay Times
X-ORIGINAL-URL:https://sfbaytimes.com
X-WR-CALDESC:Events for San Francisco Bay Times
BEGIN:VTIMEZONE
TZID:America/Los_Angeles
BEGIN:DAYLIGHT
TZOFFSETFROM:-0800
TZOFFSETTO:-0700
TZNAME:PDT
DTSTART:20180311T100000
END:DAYLIGHT
BEGIN:STANDARD
TZOFFSETFROM:-0700
TZOFFSETTO:-0800
TZNAME:PST
DTSTART:20181104T090000
END:STANDARD
END:VTIMEZONE
BEGIN:VEVENT
DTSTART;TZID=America/Los_Angeles:20180322T180000
DTEND;TZID=America/Los_Angeles:20180322T200000
DTSTAMP:20260423T234352
CREATED:20180321T173307Z
LAST-MODIFIED:20180321T173307Z
UID:17172-1521741600-1521748800@sfbaytimes.com
SUMMARY:Castro Merchants Members Mixer
DESCRIPTION:@ Spark Arts\, 4229 18th Street. Members and friends are invited to the organization’s first quarterly mixer for networking with local business owners\, managers and staff. 6–8pm.  \n
URL:https://sfbaytimes.com/event/castro-merchants-members-mixer-2/
END:VEVENT
END:VCALENDAR