BEGIN:VCALENDAR
VERSION:2.0
PRODID:-//San Francisco Bay Times - ECPv5.1.0//NONSGML v1.0//EN
CALSCALE:GREGORIAN
METHOD:PUBLISH
X-WR-CALNAME:San Francisco Bay Times
X-ORIGINAL-URL:https://sfbaytimes.com
X-WR-CALDESC:Events for San Francisco Bay Times
BEGIN:VTIMEZONE
TZID:America/Los_Angeles
BEGIN:DAYLIGHT
TZOFFSETFROM:-0800
TZOFFSETTO:-0700
TZNAME:PDT
DTSTART:20170312T100000
END:DAYLIGHT
BEGIN:STANDARD
TZOFFSETFROM:-0700
TZOFFSETTO:-0800
TZNAME:PST
DTSTART:20171105T090000
END:STANDARD
END:VTIMEZONE
BEGIN:VEVENT
DTSTART;TZID=America/Los_Angeles:20170718T190000
DTEND;TZID=America/Los_Angeles:20170718T220000
DTSTAMP:20260421T173528
CREATED:20170714T172635Z
LAST-MODIFIED:20170714T172635Z
UID:13070-1500404400-1500415200@sfbaytimes.com
SUMMARY:Castro Patrol Training
DESCRIPTION:@ Castro Location TBA. The group holds its 59th free training workshop where you can find out about the volunteers who help keep the neighborhood safe. 7-10pm. castropatrol.org \n
URL:https://sfbaytimes.com/event/castro-patrol-training/
END:VEVENT
END:VCALENDAR