BEGIN:VCALENDAR
VERSION:2.0
PRODID:-//San Francisco Bay Times - ECPv5.1.0//NONSGML v1.0//EN
CALSCALE:GREGORIAN
METHOD:PUBLISH
X-WR-CALNAME:San Francisco Bay Times
X-ORIGINAL-URL:https://sfbaytimes.com
X-WR-CALDESC:Events for San Francisco Bay Times
BEGIN:VTIMEZONE
TZID:America/Los_Angeles
BEGIN:DAYLIGHT
TZOFFSETFROM:-0800
TZOFFSETTO:-0700
TZNAME:PDT
DTSTART:20170312T100000
END:DAYLIGHT
BEGIN:STANDARD
TZOFFSETFROM:-0700
TZOFFSETTO:-0800
TZNAME:PST
DTSTART:20171105T090000
END:STANDARD
END:VTIMEZONE
BEGIN:VEVENT
DTSTART;VALUE=DATE:20170718
DTEND;VALUE=DATE:20170724
DTSTAMP:20260421T171750
CREATED:20170714T173352Z
LAST-MODIFIED:20170714T173352Z
UID:13074-1500336000-1500854399@sfbaytimes.com
SUMMARY:Celebrate Community! 2017 LGBT Pride Exhibit
DESCRIPTION:@ Harvey Milk Photo Center\, 50 Scott Street. A special show for Pride including the work of more than 30 photographers\nincluding our own Rink\, Paul Margolis\, Bill Wilson\, Patrick & Hossein Carney and many more. Through July 23 on\nsummer schedule. harveymilkphotographycenter.org \n
URL:https://sfbaytimes.com/event/celebrate-community-2017-lgbt-pride-exhibit/
END:VEVENT
END:VCALENDAR