BEGIN:VCALENDAR
VERSION:2.0
PRODID:-//San Francisco Bay Times - ECPv5.1.0//NONSGML v1.0//EN
CALSCALE:GREGORIAN
METHOD:PUBLISH
X-WR-CALNAME:San Francisco Bay Times
X-ORIGINAL-URL:https://sfbaytimes.com
X-WR-CALDESC:Events for San Francisco Bay Times
BEGIN:VTIMEZONE
TZID:America/Los_Angeles
BEGIN:DAYLIGHT
TZOFFSETFROM:-0800
TZOFFSETTO:-0700
TZNAME:PDT
DTSTART:20170312T100000
END:DAYLIGHT
BEGIN:STANDARD
TZOFFSETFROM:-0700
TZOFFSETTO:-0800
TZNAME:PST
DTSTART:20171105T090000
END:STANDARD
END:VTIMEZONE
BEGIN:VEVENT
DTSTART;TZID=America/Los_Angeles:20170617T173000
DTEND;TZID=America/Los_Angeles:20170617T173000
DTSTAMP:20260423T072740
CREATED:20170607T221106Z
LAST-MODIFIED:20170607T221106Z
UID:12523-1497720600-1497720600@sfbaytimes.com
SUMMARY:Celebrate Community! 2017 LGBTQ Pride Opening Reception & Event
DESCRIPTION:@ Harvey Milk Photo Center\, 50 Scott Street. Curator Dave Christensen collaborates with Nicola Bosco-Alvarez presenting the Harvey Milk Photo Center’s 2017 Pride exhibit with an opening night featuring a runway show and live entertainment. 5:30pm. harveymilkphotocenter.org \n
URL:https://sfbaytimes.com/event/celebrate-community-2017-lgbtq-pride-opening-reception-event/
END:VEVENT
END:VCALENDAR