BEGIN:VCALENDAR
VERSION:2.0
PRODID:-//San Francisco Bay Times - ECPv5.1.0//NONSGML v1.0//EN
CALSCALE:GREGORIAN
METHOD:PUBLISH
X-WR-CALNAME:San Francisco Bay Times
X-ORIGINAL-URL:https://sfbaytimes.com
X-WR-CALDESC:Events for San Francisco Bay Times
BEGIN:VTIMEZONE
TZID:America/Los_Angeles
BEGIN:DAYLIGHT
TZOFFSETFROM:-0800
TZOFFSETTO:-0700
TZNAME:PDT
DTSTART:20170312T100000
END:DAYLIGHT
BEGIN:STANDARD
TZOFFSETFROM:-0700
TZOFFSETTO:-0800
TZNAME:PST
DTSTART:20171105T090000
END:STANDARD
END:VTIMEZONE
BEGIN:VEVENT
DTSTART;TZID=America/Los_Angeles:20170622T120000
DTEND;TZID=America/Los_Angeles:20170622T170000
DTSTAMP:20260422T043348
CREATED:20170620T202048Z
LAST-MODIFIED:20170620T202048Z
UID:12661-1498132800-1498150800@sfbaytimes.com
SUMMARY:Celebrate Pride with Vocalist Jason Brock
DESCRIPTION:@Zuckerberg San Francisco General\, 1001 Potero Avenue. Enjoy live music and learn about the healing arts program created by Imprint.City and Zuckerberg SF General Hospital. 12pm. imprintcity.org \n
URL:https://sfbaytimes.com/event/celebrate-pride-with-vocalist-jason-brock/
END:VEVENT
END:VCALENDAR