BEGIN:VCALENDAR
VERSION:2.0
PRODID:-//San Francisco Bay Times - ECPv5.1.0//NONSGML v1.0//EN
CALSCALE:GREGORIAN
METHOD:PUBLISH
X-WR-CALNAME:San Francisco Bay Times
X-ORIGINAL-URL:https://sfbaytimes.com
X-WR-CALDESC:Events for San Francisco Bay Times
BEGIN:VTIMEZONE
TZID:America/Los_Angeles
BEGIN:DAYLIGHT
TZOFFSETFROM:-0800
TZOFFSETTO:-0700
TZNAME:PDT
DTSTART:20170312T100000
END:DAYLIGHT
BEGIN:STANDARD
TZOFFSETFROM:-0700
TZOFFSETTO:-0800
TZNAME:PST
DTSTART:20171105T090000
END:STANDARD
END:VTIMEZONE
BEGIN:VEVENT
DTSTART;TZID=America/Los_Angeles:20170909T123000
DTEND;TZID=America/Los_Angeles:20170909T153000
DTSTAMP:20260421T140343
CREATED:20170908T211045Z
LAST-MODIFIED:20170908T211045Z
UID:14109-1504960200-1504971000@sfbaytimes.com
SUMMARY:Celebrating Where We Come From\, Envisioning Where We Are Going
DESCRIPTION:@ Community Hall St. Columba Catholic Church\, 6401 San Pablo Avenue\, Oakland. Join Father Aidan McAleenan and featured guests for an event hosted by Bay Area Queer Men Mixers. 12:30-3:30pm. Bay Area Queer Men Mixers on Facebook \n
URL:https://sfbaytimes.com/event/celebrating-come-envisioning-going/
END:VEVENT
END:VCALENDAR