BEGIN:VCALENDAR
VERSION:2.0
PRODID:-//San Francisco Bay Times - ECPv5.1.0//NONSGML v1.0//EN
CALSCALE:GREGORIAN
METHOD:PUBLISH
X-WR-CALNAME:San Francisco Bay Times
X-ORIGINAL-URL:https://sfbaytimes.com
X-WR-CALDESC:Events for San Francisco Bay Times
BEGIN:VTIMEZONE
TZID:America/Los_Angeles
BEGIN:DAYLIGHT
TZOFFSETFROM:-0800
TZOFFSETTO:-0700
TZNAME:PDT
DTSTART:20170312T100000
END:DAYLIGHT
BEGIN:STANDARD
TZOFFSETFROM:-0700
TZOFFSETTO:-0800
TZNAME:PST
DTSTART:20171105T090000
END:STANDARD
END:VTIMEZONE
BEGIN:VEVENT
DTSTART;TZID=America/Los_Angeles:20170617T120000
DTEND;TZID=America/Los_Angeles:20170617T120000
DTSTAMP:20260423T104906
CREATED:20170607T221319Z
LAST-MODIFIED:20170607T221319Z
UID:12527-1497700800-1497700800@sfbaytimes.com
SUMMARY:Cha-Cha and Salsa in the Castro
DESCRIPTION:@ Jane Warner Plaza\, Market and Castro Streets. Hosted by Emily Coles Dance SF\, the event features cha-cha demos by same-sex competitors and open social dancing to cha-cha and salsa plus info about the upcoming documentary film Hot to Trot on the history of competitive ballroom dancing. 12-1:00pm. emilycolesdancesf.com \n
URL:https://sfbaytimes.com/event/cha-cha-and-salsa-in-the-castro/
END:VEVENT
END:VCALENDAR