BEGIN:VCALENDAR
VERSION:2.0
PRODID:-//San Francisco Bay Times - ECPv5.1.0//NONSGML v1.0//EN
CALSCALE:GREGORIAN
METHOD:PUBLISH
X-WR-CALNAME:San Francisco Bay Times
X-ORIGINAL-URL:https://sfbaytimes.com
X-WR-CALDESC:Events for San Francisco Bay Times
BEGIN:VTIMEZONE
TZID:America/Los_Angeles
BEGIN:DAYLIGHT
TZOFFSETFROM:-0800
TZOFFSETTO:-0700
TZNAME:PDT
DTSTART:20180311T100000
END:DAYLIGHT
BEGIN:STANDARD
TZOFFSETFROM:-0700
TZOFFSETTO:-0800
TZNAME:PST
DTSTART:20181104T090000
END:STANDARD
END:VTIMEZONE
BEGIN:VEVENT
DTSTART;TZID=America/Los_Angeles:20180120T130000
DTEND;TZID=America/Los_Angeles:20180120T150000
DTSTAMP:20260425T152839
CREATED:20180116T030953Z
LAST-MODIFIED:20180116T030953Z
UID:16213-1516453200-1516460400@sfbaytimes.com
SUMMARY:Citizen Queer - Stories of A&PI Queer Men
DESCRIPTION:@ Location TBA. The first of a six session workshop on personal narrative/storytelling by and for Asian and Pacific Islander Gay\, Bisexual and Queer and trans men. 1-3pm. apiwellness.org \n
URL:https://sfbaytimes.com/event/citizen-queer-stories-api-queer-men/
END:VEVENT
END:VCALENDAR