BEGIN:VCALENDAR
VERSION:2.0
PRODID:-//San Francisco Bay Times - ECPv5.1.0//NONSGML v1.0//EN
CALSCALE:GREGORIAN
METHOD:PUBLISH
X-WR-CALNAME:San Francisco Bay Times
X-ORIGINAL-URL:https://sfbaytimes.com
X-WR-CALDESC:Events for San Francisco Bay Times
BEGIN:VTIMEZONE
TZID:America/Los_Angeles
BEGIN:DAYLIGHT
TZOFFSETFROM:-0800
TZOFFSETTO:-0700
TZNAME:PDT
DTSTART:20170312T100000
END:DAYLIGHT
BEGIN:STANDARD
TZOFFSETFROM:-0700
TZOFFSETTO:-0800
TZNAME:PST
DTSTART:20171105T090000
END:STANDARD
END:VTIMEZONE
BEGIN:VEVENT
DTSTART;TZID=America/Los_Angeles:20170629T180000
DTEND;TZID=America/Los_Angeles:20170629T180000
DTSTAMP:20260422T153409
CREATED:20170620T205810Z
LAST-MODIFIED:20170620T205810Z
UID:12725-1498759200-1498759200@sfbaytimes.com
SUMMARY:Cocktails & Conversation
DESCRIPTION:@ Chambers eat + drink\, 601 Eddy Street. Hosted by HRC San Francisco\, the event includes sponsored hors d’oeuvres and cocktails and provides an opportunity to fine out about HRC’s field and political work at the national\, state and local levels. jbalbers@gmail.com or chrislehtonen@gmail.com \n
URL:https://sfbaytimes.com/event/cocktails-conversation/
END:VEVENT
END:VCALENDAR