BEGIN:VCALENDAR
VERSION:2.0
PRODID:-//San Francisco Bay Times - ECPv5.1.0//NONSGML v1.0//EN
CALSCALE:GREGORIAN
METHOD:PUBLISH
X-WR-CALNAME:San Francisco Bay Times
X-ORIGINAL-URL:https://sfbaytimes.com
X-WR-CALDESC:Events for San Francisco Bay Times
BEGIN:VTIMEZONE
TZID:America/Los_Angeles
BEGIN:DAYLIGHT
TZOFFSETFROM:-0800
TZOFFSETTO:-0700
TZNAME:PDT
DTSTART:20170312T100000
END:DAYLIGHT
BEGIN:STANDARD
TZOFFSETFROM:-0700
TZOFFSETTO:-0800
TZNAME:PST
DTSTART:20171105T090000
END:STANDARD
END:VTIMEZONE
BEGIN:VEVENT
DTSTART;TZID=America/Los_Angeles:20170817T200000
DTEND;TZID=America/Los_Angeles:20170817T200000
DTSTAMP:20260422T061109
CREATED:20170809T233738Z
LAST-MODIFIED:20170809T233738Z
UID:13589-1503000000-1503000000@sfbaytimes.com
SUMMARY:Comedy Returns to El Rio’s
DESCRIPTION:@ El Rio\, 3158 Mission Street. Hosted by Lisa Geduldig\, featuring Bob McIntyre\, Carla Clayy\, Kat Evasco\, and Ian Williams at the popular Mission bar each month on 3rd Thursdays. 8pm. elriosf.com \n
URL:https://sfbaytimes.com/event/comedy-returns-el-rios/
END:VEVENT
END:VCALENDAR