BEGIN:VCALENDAR
VERSION:2.0
PRODID:-//San Francisco Bay Times - ECPv5.1.0//NONSGML v1.0//EN
CALSCALE:GREGORIAN
METHOD:PUBLISH
X-WR-CALNAME:San Francisco Bay Times
X-ORIGINAL-URL:https://sfbaytimes.com
X-WR-CALDESC:Events for San Francisco Bay Times
BEGIN:VTIMEZONE
TZID:America/Los_Angeles
BEGIN:DAYLIGHT
TZOFFSETFROM:-0800
TZOFFSETTO:-0700
TZNAME:PDT
DTSTART:20180311T100000
END:DAYLIGHT
BEGIN:STANDARD
TZOFFSETFROM:-0700
TZOFFSETTO:-0800
TZNAME:PST
DTSTART:20181104T090000
END:STANDARD
END:VTIMEZONE
BEGIN:VEVENT
DTSTART;TZID=America/Los_Angeles:20180310T160000
DTEND;TZID=America/Los_Angeles:20180310T180000
DTSTAMP:20260424T053301
CREATED:20180309T224556Z
LAST-MODIFIED:20180309T224556Z
UID:17059-1520697600-1520704800@sfbaytimes.com
SUMMARY:Community Gathering: A March to Remember & Reclaim Queer Space
DESCRIPTION:@ Starting Point: The Gangway\, 841 Larkin Street. A march through the Polk Gulch visiting four former queer spaces to lay black wreaths and call for commemorating and sustaining the city’s LGBTQ queer heritage and culture. Sponsored by GBLT Historical Society\, SF LGBT Center\, Lower Polk Neighbors\, Middle Polk Neighborhood Association and more. 4–6pm. glbthistory.org \n
URL:https://sfbaytimes.com/event/community-gathering-march-remember-reclaim-queer-space/
END:VEVENT
END:VCALENDAR