BEGIN:VCALENDAR
VERSION:2.0
PRODID:-//San Francisco Bay Times - ECPv5.1.0//NONSGML v1.0//EN
CALSCALE:GREGORIAN
METHOD:PUBLISH
X-WR-CALNAME:San Francisco Bay Times
X-ORIGINAL-URL:https://sfbaytimes.com
X-WR-CALDESC:Events for San Francisco Bay Times
BEGIN:VTIMEZONE
TZID:America/Los_Angeles
BEGIN:DAYLIGHT
TZOFFSETFROM:-0800
TZOFFSETTO:-0700
TZNAME:PDT
DTSTART:20180311T100000
END:DAYLIGHT
BEGIN:STANDARD
TZOFFSETFROM:-0700
TZOFFSETTO:-0800
TZNAME:PST
DTSTART:20181104T090000
END:STANDARD
END:VTIMEZONE
BEGIN:VEVENT
DTSTART;TZID=America/Los_Angeles:20180304T160000
DTEND;TZID=America/Los_Angeles:20180304T160000
DTSTAMP:20260424T115120
CREATED:20180223T040051Z
LAST-MODIFIED:20180223T040051Z
UID:16897-1520179200-1520179200@sfbaytimes.com
SUMMARY:Community Women’s Orchestra’s International Women’s Day Concert
DESCRIPTION:@ Lake Merritt United Methodist Church\, 1330 Lakeshore Avenue\, Oakland. Music Director Dana Sadava leads CWO into its Season 33 – “Here to Play and Here to Stay” with a program featuring music by Haydn\, Mendelssohn\, Alexandra Du Bois and Amy Beach with a reception following. 4pm. communitywomensorchestra.org \n
URL:https://sfbaytimes.com/event/community-womens-orchestras-international-womens-day-concert/
END:VEVENT
END:VCALENDAR