BEGIN:VCALENDAR
VERSION:2.0
PRODID:-//San Francisco Bay Times - ECPv5.1.0//NONSGML v1.0//EN
CALSCALE:GREGORIAN
METHOD:PUBLISH
X-WR-CALNAME:San Francisco Bay Times
X-ORIGINAL-URL:https://sfbaytimes.com
X-WR-CALDESC:Events for San Francisco Bay Times
BEGIN:VTIMEZONE
TZID:America/Los_Angeles
BEGIN:DAYLIGHT
TZOFFSETFROM:-0800
TZOFFSETTO:-0700
TZNAME:PDT
DTSTART:20180311T100000
END:DAYLIGHT
BEGIN:STANDARD
TZOFFSETFROM:-0700
TZOFFSETTO:-0800
TZNAME:PST
DTSTART:20181104T090000
END:STANDARD
END:VTIMEZONE
BEGIN:VEVENT
DTSTART;TZID=America/Los_Angeles:20181004T180000
DTEND;TZID=America/Los_Angeles:20181004T180000
DTSTAMP:20260419T185620
CREATED:20181006T211602Z
LAST-MODIFIED:20181006T211602Z
UID:19815-1538676000-1538676000@sfbaytimes.com
SUMMARY:Compassion Is Universal-Shanti’s 44th Anniversary Gala
DESCRIPTION:@ The Palace Hotel\, 2 New Montgomery Street. Honoring Jerry Francone and Supervisor Jane Kim with a performance by Breanna Sinclaire. 6pm. http://www.shanti.org \n
URL:https://sfbaytimes.com/event/compassion-universal-shantis-44th-anniversary-gala/
END:VEVENT
END:VCALENDAR