BEGIN:VCALENDAR
VERSION:2.0
PRODID:-//San Francisco Bay Times - ECPv5.1.0//NONSGML v1.0//EN
CALSCALE:GREGORIAN
METHOD:PUBLISH
X-WR-CALNAME:San Francisco Bay Times
X-ORIGINAL-URL:https://sfbaytimes.com
X-WR-CALDESC:Events for San Francisco Bay Times
BEGIN:VTIMEZONE
TZID:America/Los_Angeles
BEGIN:DAYLIGHT
TZOFFSETFROM:-0800
TZOFFSETTO:-0700
TZNAME:PDT
DTSTART:20190310T100000
END:DAYLIGHT
BEGIN:STANDARD
TZOFFSETFROM:-0700
TZOFFSETTO:-0800
TZNAME:PST
DTSTART:20191103T090000
END:STANDARD
END:VTIMEZONE
BEGIN:VEVENT
DTSTART;TZID=America/Los_Angeles:20190124T180000
DTEND;TZID=America/Los_Angeles:20190124T193000
DTSTAMP:20260420T095416
CREATED:20190124T224551Z
LAST-MODIFIED:20190124T224551Z
UID:21599-1548352800-1548358200@sfbaytimes.com
SUMMARY:Conversation with Authors Mattilda Bernstein Sycamore and Rebecca Brown
DESCRIPTION:@ James C. Hormel LGBTQIA Center\, San Francisco Public Library\, 100 Larkin Street. The authors will read from their new fiction books: Sketchtasy (Sycamore) and Not Heaven\, Somewhere Else (Brown) with a book signing to follow. 6-7:30pm. http://www.sfpl.org \n
URL:https://sfbaytimes.com/event/conversation-authors-mattilda-bernstein-sycamore-rebecca-brown/
END:VEVENT
END:VCALENDAR