BEGIN:VCALENDAR
VERSION:2.0
PRODID:-//San Francisco Bay Times - ECPv5.1.0//NONSGML v1.0//EN
CALSCALE:GREGORIAN
METHOD:PUBLISH
X-WR-CALNAME:San Francisco Bay Times
X-ORIGINAL-URL:https://sfbaytimes.com
X-WR-CALDESC:Events for San Francisco Bay Times
BEGIN:VTIMEZONE
TZID:America/Los_Angeles
BEGIN:DAYLIGHT
TZOFFSETFROM:-0800
TZOFFSETTO:-0700
TZNAME:PDT
DTSTART:20180311T100000
END:DAYLIGHT
BEGIN:STANDARD
TZOFFSETFROM:-0700
TZOFFSETTO:-0800
TZNAME:PST
DTSTART:20181104T090000
END:STANDARD
END:VTIMEZONE
BEGIN:VEVENT
DTSTART;VALUE=DATE:20180925
DTEND;VALUE=DATE:20180926
DTSTAMP:20260419T235745
CREATED:20180923T201918Z
LAST-MODIFIED:20180923T201918Z
UID:19619-1537833600-1537919999@sfbaytimes.com
SUMMARY:Cris Williamson\, Barbara Higbie\, Teresa Trull: The Reunion Tour
DESCRIPTION:@ Kuumbwa Jazz Center\, 320-2 Cedar Street #2\, Santa Cruz. This trio of women’s music favorites will bring a mixture of new music and old favorites in a show guaranteed to delight\, inspire\, cheer and comfort. http://www.criswilliamson.com \n
URL:https://sfbaytimes.com/event/cris-williamson-barbara-higbie-teresa-trull-reunion-tour-2/
END:VEVENT
END:VCALENDAR