BEGIN:VCALENDAR
VERSION:2.0
PRODID:-//San Francisco Bay Times - ECPv5.1.0//NONSGML v1.0//EN
CALSCALE:GREGORIAN
METHOD:PUBLISH
X-WR-CALNAME:San Francisco Bay Times
X-ORIGINAL-URL:https://sfbaytimes.com
X-WR-CALDESC:Events for San Francisco Bay Times
BEGIN:VTIMEZONE
TZID:America/Los_Angeles
BEGIN:DAYLIGHT
TZOFFSETFROM:-0800
TZOFFSETTO:-0700
TZNAME:PDT
DTSTART:20180311T100000
END:DAYLIGHT
BEGIN:STANDARD
TZOFFSETFROM:-0700
TZOFFSETTO:-0800
TZNAME:PST
DTSTART:20181104T090000
END:STANDARD
END:VTIMEZONE
BEGIN:VEVENT
DTSTART;TZID=America/Los_Angeles:20180315T090000
DTEND;TZID=America/Los_Angeles:20180315T170000
DTSTAMP:20260424T042301
CREATED:20180309T230028Z
LAST-MODIFIED:20180309T230028Z
UID:17093-1521104400-1521133200@sfbaytimes.com
SUMMARY:Designing Women: A Lesbian Couple in the Arts & Crafts Movement
DESCRIPTION:@ GLBT History Museum\, 4127 18th Street. Architectural historian Inge Horton and novelist Linda Ulleseit will present their research on architect Emil Williams and her partner\, metalwork artist Lillian Palmer. glbthistory.org \n
URL:https://sfbaytimes.com/event/designing-women-lesbian-couple-arts-crafts-movement/
END:VEVENT
END:VCALENDAR