BEGIN:VCALENDAR
VERSION:2.0
PRODID:-//San Francisco Bay Times - ECPv5.1.0//NONSGML v1.0//EN
CALSCALE:GREGORIAN
METHOD:PUBLISH
X-WR-CALNAME:San Francisco Bay Times
X-ORIGINAL-URL:https://sfbaytimes.com
X-WR-CALDESC:Events for San Francisco Bay Times
BEGIN:VTIMEZONE
TZID:America/Los_Angeles
BEGIN:DAYLIGHT
TZOFFSETFROM:-0800
TZOFFSETTO:-0700
TZNAME:PDT
DTSTART:20190310T100000
END:DAYLIGHT
BEGIN:STANDARD
TZOFFSETFROM:-0700
TZOFFSETTO:-0800
TZNAME:PST
DTSTART:20191103T090000
END:STANDARD
END:VTIMEZONE
BEGIN:VEVENT
DTSTART;TZID=America/Los_Angeles:20191101T170000
DTEND;TZID=America/Los_Angeles:20191101T170000
DTSTAMP:20260419T145834
CREATED:20191104T003620Z
LAST-MODIFIED:20191104T003620Z
UID:25736-1572627600-1572627600@sfbaytimes.com
SUMMARY:Día de los Muertos
DESCRIPTION:@ The Grand\, 520 4th Street\, San Francisco. Hosted by Holy Cow Nightclub. Free admission before 11pm. https://bit.ly/2WrnJvJ \n
URL:https://sfbaytimes.com/event/dia-de-los-muertos/
END:VEVENT
END:VCALENDAR